BEGIN:VCALENDAR
VERSION:2.0
PRODID:-//Tukios.com/
BEGIN:VEVENT
UID:7ae0ddc2-35e7-41aa-b9d9-18c9a6a45f8e@www.smithmcquiston.com
DTSTAMP:20260420T015027Z
DTSTART:20260422T200000Z
DTEND:20260422T230000Z
SUMMARY:Visitation
DESCRIPTION:
URL:https://www.smithmcquiston.com/obituaries/louis-baumer
LOCATION: 321 US Hwy 27, PO Box 14  Fountain City IN 47341
GEO:39.9527674;-84.9163183
END:VEVENT
END:VCALENDAR