BEGIN:VCALENDAR
VERSION:2.0
PRODID:-//Tukios.com/
BEGIN:VEVENT
UID:3ce88d71-e8fa-45e7-a249-17be0b509760@www.smithmcquiston.com
DTSTAMP:20260420T014659Z
DTSTART:20260423T150000Z
DTEND:20260423T160000Z
SUMMARY:Funeral Service
DESCRIPTION:
URL:https://www.smithmcquiston.com/obituaries/louis-baumer
LOCATION: 321 US Hwy 27, PO Box 14  Fountain City IN 47341
GEO:39.9527674;-84.9163183
END:VEVENT
END:VCALENDAR